BEGIN:VCALENDAR
VERSION:2.0
PRODID:-//wp-events-plugin.com//7.2.3.1//EN
TZID:America/Chicago
X-WR-TIMEZONE:America/Chicago
BEGIN:VEVENT
UID:2406@ntmn.org
DTSTART;TZID=America/Chicago:20241102T083000
DTEND;TZID=America/Chicago:20241102T093000
DTSTAMP:20240909T191124Z
URL:https://ntmn.org/events/450125/
SUMMARY:Dogwood Canyon Audubon Center || 1st Saturday Bird Walk (AT)
DESCRIPTION:Dogwood Canyon Audubon Center || 1st Saturday Bird Walk (AT)\nS
 aturday\, November 2\, 2024  || 8:30am – 9:30am CT\n\nDescription:  A 
 guided bird walk. It is not uncommon to see different birds each month as 
 birds move about during their breeding and wintering cycles. Our expert gu
 ides will help you identify birds not only by sight\, but also by sound. S
 ound is often the first signal of bird location. Introduction to the bird 
 app\, Merlin\, will also be covered.\n\nWe will meet at the Visitor Center
  and take a 1 hour walk\, identifying different species of birds by sight 
 and by ear.\n\nPlease bring binoculars (we have some to borrow if needed)\
 , comfortable footwear\, and dress for the weather.\n\nEvent is limited to
  20 people. RSVP recommended and donations appreciated. Suggested donation
  of $10.00\, plus processing fee.\n\nLimited to ages 16+\n\nRegistration:
   https://dogwoodcanyonaudubon.ticketleap.com/1st-saturday-bird-walk/deta
 ils\nClick on “email us” bottom of page\, include date of the walk.\n\
 nLocation:  Dogwood Canyon Audubon Center at Cedar Hill\, 1206 W. FM 1382
 \, Cedar Hill\, TX 75104\n\nReport hour to AT: NTX: Other Pre-Approved Tra
 ining (Approved for 1 hr)\nDo not include drive time\nLLB 09/09/2024
CATEGORIES:Guided Walks/AT
LOCATION:Dogwood Canyon Audubon Center at Cedar Hill\, 1206 W. FM 1382\, Ce
 dar Hill\, TX 75104\, Cedar Hill\, TX\, 75104\, United States
GEO:32.59423;-96.942384
X-APPLE-STRUCTURED-LOCATION;VALUE=URI;X-ADDRESS=1206 W. FM 1382\, Cedar Hil
 l\, TX 75104\, Cedar Hill\, TX\, 75104\, United States;X-APPLE-RADIUS=100;
 X-TITLE=Dogwood Canyon Audubon Center at Cedar Hill:geo:32.59423,-96.94238
 4
END:VEVENT
BEGIN:VTIMEZONE
TZID:America/Chicago
X-LIC-LOCATION:America/Chicago
BEGIN:DAYLIGHT
DTSTART:20240310T030000
TZOFFSETFROM:-0600
TZOFFSETTO:-0500
TZNAME:CDT
END:DAYLIGHT
END:VTIMEZONE
END:VCALENDAR