BEGIN:VCALENDAR
VERSION:2.0
PRODID:-//wp-events-plugin.com//7.2.3.1//EN
TZID:America/Chicago
X-WR-TIMEZONE:America/Chicago
BEGIN:VEVENT
UID:3587@ntmn.org
DTSTART;TZID=America/Chicago:20250517T100000
DTEND;TZID=America/Chicago:20250517T140000
DTSTAMP:20260330T025841Z
URL:https://ntmn.org/events/bugfest-2025-city-of-grand-prairie/
SUMMARY:BugFest 2025-City of Grand Prairie
DESCRIPTION:WHAT: BugFest 2025 - An exciting and educational family festiv
 al hosted by the city of Grand Prairie to celebrate the fascinating world 
 of insects. Organizers are expecting large crowds (several thousand people
 ) of all ages and will have plenty of things to do throughout the grounds 
 for everyone to enjoy. Hoping to include hands-on displays\, educational a
 ctivities\, and plenty of opportunities for guests of all ages to learn ab
 out the important roles insects play in our ecosystems. In the past they h
 ave worked with other chapters but this year want to partner with NTMN in 
 sharing passion and expertise with the community through outreach tables\,
  displays\, running educational activities and generally supporting this e
 vent by speaking with kids and parents about the wonderful world of insect
 s!\n\nEVENT INFO LINK:  https://grandfungp.com/special-events/\n\nWHEN:
   Saturday\, May 17 from 10am - 2pm\n\nWHERE:  Lynn Creek Park on Joe P
 ool Lake (5610 Lake Ridge Pkwy Grand Prairie TX 75052)\n\nNOTES:  They wo
 uld like us to have a large presence and we can have as many tables\, chai
 rs and tents as needed. Volunteer Signup link has spots for 6 but more are
  welcome! Will also need a volunteer to reserve\, pick up and return trunk
 s.\n&nbsp\;\n\nReport hours to:  NTX: Outreach Events (Put "BugFest Grand
  Prairie" in comments section): TMN Report Hours. \nMay include drive tim
 e.\n\n2/21/2025 CLG
CATEGORIES:Public Events
END:VEVENT
BEGIN:VTIMEZONE
TZID:America/Chicago
X-LIC-LOCATION:America/Chicago
BEGIN:DAYLIGHT
DTSTART:20250309T030000
TZOFFSETFROM:-0600
TZOFFSETTO:-0500
TZNAME:CDT
END:DAYLIGHT
END:VTIMEZONE
END:VCALENDAR