BEGIN:VCALENDAR
VERSION:2.0
PRODID:-//wp-events-plugin.com//7.2.3.1//EN
TZID:America/Chicago
X-WR-TIMEZONE:America/Chicago
BEGIN:VEVENT
UID:5851@ntmn.org
DTSTART;TZID=America/Chicago:20260214T103000
DTEND;TZID=America/Chicago:20260214T143000
DTSTAMP:20260203T174611Z
URL:https://ntmn.org/events/city-park-plant-and-seed-swap/
SUMMARY:City Park Plant and Seed Swap
DESCRIPTION:\n\n\n\n\n\n\n\n\n\nCity Park Seed &amp\; Plant Swap\n\n\nLearn
  how to grow your green space!\nJoin us on Saturday\, February 14  from 1
 1 am to 2pm  at City Park.\nBring plants and seeds for this community swa
 p.  Free event!  There will be a community workshop\, non-profits and ve
 ndors.\n\n\n\n\n\n\n\n\n\n\n\n\n\n\n\n\n\n\n\n\n\n\n\n\n\n\n1515 S. Harwoo
 d St.  Dallas\, TX  75215The website for the project: Calendar • City 
 Park Seed &amp\; Plant Swap\n\n\nContact information for questions:  Leea
  Thompson Fudge 214-448-6598\n\n\n\n\n\n\n\n\n\n\n
CATEGORIES:Public Events
LOCATION:Dallas City Park\, 1515 S. Harwood Street\, Dallas\, TX 75215\, Da
 llas\, TX\, 75215\, United States
GEO:32.772189;-96.788926
X-APPLE-STRUCTURED-LOCATION;VALUE=URI;X-ADDRESS=1515 S. Harwood Street\, Da
 llas\, TX 75215\, Dallas\, TX\, 75215\, United States;X-APPLE-RADIUS=100;X
 -TITLE=Dallas City Park:geo:32.772189,-96.788926
END:VEVENT
BEGIN:VTIMEZONE
TZID:America/Chicago
X-LIC-LOCATION:America/Chicago
BEGIN:STANDARD
DTSTART:20251102T010000
TZOFFSETFROM:-0500
TZOFFSETTO:-0600
TZNAME:CST
END:STANDARD
END:VTIMEZONE
END:VCALENDAR