BEGIN:VCALENDAR
VERSION:2.0
PRODID:-//wp-events-plugin.com//7.2.3.1//EN
TZID:America/Chicago
X-WR-TIMEZONE:America/Chicago
BEGIN:VEVENT
UID:2408@ntmn.org
DTSTART;TZID=America/Chicago:20241123T100000
DTEND;TZID=America/Chicago:20241123T113000
DTSTAMP:20240909T211551Z
URL:https://ntmn.org/events/dogwood-canyon-audubon-center-guided-tree-id-w
 alk-at-3/
SUMMARY:Dogwood Canyon Audubon Center || Guided Tree ID Walk (AT)
DESCRIPTION:Dogwood Canyon Audubon Center || Guided Tree ID Walk (AT)\nSatu
 rday\, November 23\, 2024  || 10am– 11:30am   CT\n\nDescription:  "R
 aptors of North Texas\, Join us for a guided tree walk at Dogwood Canyon A
 udubon Center and immerse yourself in the serene beauty of North Texas\, w
 hile learning about the rich and unique ecosystem of this region through i
 ts native trees.\n\nLed by Texas Master Naturalist\, Jake Calvit. Jake is 
 an enthusiastic instructor\, providing details and tips on identifying tre
 es and so much more.\n\nFree\, RSVP recommended\, but walk-ups welcome. 2-
 17-24\, 10am-11:30am\n\nRegistration:  https://dogwoodcanyonaudubon.ticke
 tleap.com/guided-tree-id-walk/details\n\nClick on “email us” bottom of
  registration page\, to RSVP or if any questions. Also\, you can call\, 46
 9-526-1980.\n\nLocation:  Dogwood Canyon Audubon Center at Cedar Hill\, 1
 206 W. FM 1382\, Cedar Hill\, TX 75104\n\nReport hour to AT: NTX: Other Pr
 e-Approved Training (Approved for 1.5 hr)\nDo not include drive time\nLLB 
 09/09/2024
CATEGORIES:Guided Walks/AT
LOCATION:Dogwood Canyon Audubon Center at Cedar Hill\, 1206 W. FM 1382\, Ce
 dar Hill\, TX 75104\, Cedar Hill\, TX\, 75104\, United States
GEO:32.59423;-96.942384
X-APPLE-STRUCTURED-LOCATION;VALUE=URI;X-ADDRESS=1206 W. FM 1382\, Cedar Hil
 l\, TX 75104\, Cedar Hill\, TX\, 75104\, United States;X-APPLE-RADIUS=100;
 X-TITLE=Dogwood Canyon Audubon Center at Cedar Hill:geo:32.59423,-96.94238
 4
END:VEVENT
BEGIN:VTIMEZONE
TZID:America/Chicago
X-LIC-LOCATION:America/Chicago
BEGIN:STANDARD
DTSTART:20241103T010000
TZOFFSETFROM:-0500
TZOFFSETTO:-0600
TZNAME:CST
END:STANDARD
END:VTIMEZONE
END:VCALENDAR