BEGIN:VCALENDAR
VERSION:2.0
PRODID:-//wp-events-plugin.com//7.2.3.1//EN
TZID:America/Chicago
X-WR-TIMEZONE:America/Chicago
BEGIN:VEVENT
UID:4366@ntmn.org
DTSTART;TZID=America/Chicago:20250914T110000
DTEND;TZID=America/Chicago:20250914T123000
DTSTAMP:20250722T000907Z
URL:https://ntmn.org/events/dogwood-canyon-audubon-center-guided-tree-id-w
 alk-at-9/
SUMMARY:Dogwood Canyon Audubon Center || Guided Tree ID Walk   (AT)
DESCRIPTION:Dogwood Canyon Audubon Center || Guided Tree ID Walk   (AT)\n
 Sunday\, September 14\, 2025  || 11am – 12:30am   CT\n\nDescription:
   Join us for a guided tree walk at Dogwood Canyon Audubon Center and imm
 erse yourself in the serene beauty of North Texas\, while learning about t
 he rich and unique ecosystem of this region through its native trees.\n\nL
 ed by Texas Master Naturalist\, Jake Calvit. Jake is an enthusiastic instr
 uctor\, providing details and tips on identifying trees and so much more.\
 n\nFor more info &amp\; Registration:  https://dogwoodcanyonaudubon.ticke
 tleap.com/guided-tree-id-walk/\n\nLocation:  Dogwood Canyon Audubon Cente
 r at Cedar Hill\, 1206 W. FM 1382\, Cedar Hill\, TX 75104\n\nReport hour t
 o AT: NTX: Other Pre-Approved Training (Approved for 1.5 hr)\nDo not inclu
 de drive time\nLLB 07/21/2025
CATEGORIES:Guided Walks/AT
LOCATION:Dogwood Canyon Audubon Center at Cedar Hill\, 1206 W. FM 1382\, Ce
 dar Hill\, TX 75104\, Cedar Hill\, TX\, 75104\, United States
GEO:32.59423;-96.942384
X-APPLE-STRUCTURED-LOCATION;VALUE=URI;X-ADDRESS=1206 W. FM 1382\, Cedar Hil
 l\, TX 75104\, Cedar Hill\, TX\, 75104\, United States;X-APPLE-RADIUS=100;
 X-TITLE=Dogwood Canyon Audubon Center at Cedar Hill:geo:32.59423,-96.94238
 4
END:VEVENT
BEGIN:VTIMEZONE
TZID:America/Chicago
X-LIC-LOCATION:America/Chicago
BEGIN:DAYLIGHT
DTSTART:20250309T030000
TZOFFSETFROM:-0600
TZOFFSETTO:-0500
TZNAME:CDT
END:DAYLIGHT
END:VTIMEZONE
END:VCALENDAR