BEGIN:VCALENDAR
VERSION:2.0
PRODID:-//wp-events-plugin.com//7.2.3.1//EN
TZID:America/Chicago
X-WR-TIMEZONE:America/Chicago
BEGIN:VEVENT
UID:2030@ntmn.org
DTSTART;TZID=America/Chicago:20241012T080000
DTEND;TZID=America/Chicago:20241012T090000
DTSTAMP:20240629T175335Z
URL:https://ntmn.org/events/heard-museum-2nd-saturday-bird-walk-at-2/
SUMMARY:Heard Museum || 2nd Saturday Bird Walk (AT)
DESCRIPTION:Heard Museum || 2nd Saturday Bird Walk (AT)\nSaturday\, October
  12\, 2024  |  8am-9:30am CT\n\n2nd Saturday Bird Walks are intended to 
 help beginning and intermediate birders with bird spotting and identificat
 ion techniques. There are also plenty of opportunities provided for partic
 ipants to ask questions from experienced birders. Prairie\, woodland\, and
  wetland habitats are included in these walks.\n\nThis program is typicall
 y offered monthly from September through June annually. These walks begin 
 promptly at 8 AM and last 1.5 hours.\n\nThis program is included in genera
 l admission ($12 for adults\;  $9 for seniors) and is free for Heard Muse
 um members.\n\nBe sure to arrive on time\, because if you come a few minut
 es late\, the group may have already started their walk. Learn more about 
 birding at the Heard on our Birding page.\n\nRegistration:  https://www.h
 eardmuseum.org/event/2nd-saturday-bird-walk-october-2024-2/\n\nLocation: 
  Heard Natural Science Museum &amp\; Wildlife Sanctuary\, 1 Nature Place\,
  McKinney\, TX 75069\n\nReport hour to AT: NTX: Other Pre-Approved Trainin
 g (Approved for 1.5 hrs)\nDo not include drive time\nLLB -6/29/2024
CATEGORIES:Guided Walks/AT
LOCATION:Heard Natural Science Museum & Wildlife Sanctuary\, 1 Nature Place
 \, McKinney\, TX 75069\, McKinney\, TX\, 75069\, United States
GEO:33.157873;-96.615218
X-APPLE-STRUCTURED-LOCATION;VALUE=URI;X-ADDRESS=1 Nature Place\, McKinney\,
  TX 75069\, McKinney\, TX\, 75069\, United States;X-APPLE-RADIUS=100;X-TIT
 LE=Heard Natural Science Museum & Wildlife Sanctuary:geo:33.157873,-96.615
 218
END:VEVENT
BEGIN:VTIMEZONE
TZID:America/Chicago
X-LIC-LOCATION:America/Chicago
BEGIN:DAYLIGHT
DTSTART:20240310T030000
TZOFFSETFROM:-0600
TZOFFSETTO:-0500
TZNAME:CDT
END:DAYLIGHT
END:VTIMEZONE
END:VCALENDAR