BEGIN:VCALENDAR
VERSION:2.0
PRODID:-//wp-events-plugin.com//7.2.3.1//EN
TZID:America/Chicago
X-WR-TIMEZONE:America/Chicago
BEGIN:VEVENT
UID:3230@ntmn.org
DTSTART;TZID=America/Chicago:20250208T080000
DTEND;TZID=America/Chicago:20250208T093000
DTSTAMP:20250105T194434Z
URL:https://ntmn.org/events/heard-museum-2nd-saturday-bird-walk-at-4/
SUMMARY:Heard Museum || 2nd Saturday Bird Walk (AT)
DESCRIPTION:Heard Museum || 2nd Saturday Bird Walk (AT)\nSaturday\, Februar
 y 8\, 2025 ||  8am – 9:30am CT\n\nDescription: 2nd Saturday Bird Walks 
 are intended to help beginning and intermediate birders with bird spotting
  and identification techniques. There are also plenty of opportunities pro
 vided for participants to ask questions from experienced birders. Prairie\
 , woodland\, and wetland habitats are included in these walks.\n\nOptional
  extended time is available by participant request. Be sure to arrive on t
 ime\, because if you come a few minutes late\, the group may have already 
 started their walk. Learn more about birding at the Heard on our Birding
  page.\n\nThis program is typically offered monthly from September throug
 h June annually and is included in general a dmission. These walks begin p
 romptly at 8 AM and last 1.5 hours.  .\n\nGeneral Admission Entry Fees: 
 \n$ 15 – Adults\n$ 11  – Children\, (3-12)\n$ 11  – Seniors (60+)\
 nFree –Children (under 2).\n\nRegistration:  https://www.heardmuseum.or
 g/event/2nd-saturday-bird-walk-feb-2025/\nClick “Register”\, then clic
 k on “General Admissions”\n\nLocation:  Heard Natural Science Museum 
 &amp\; Wildlife Sanctuary\, 1 Nature Place\, McKinney\, TX 75069\n\nReport
  hour to AT: NTX: Other Pre-Approved Training (Approved for 1.5 hrs)\nDo n
 ot include drive time\nLLB -01/05/2025
CATEGORIES:Guided Walks/AT
LOCATION:Heard Natural Science Museum & Wildlife Sanctuary\, 1 Nature Place
 \, McKinney\, TX 75069\, McKinney\, TX\, 75069\, United States
GEO:33.157873;-96.615218
X-APPLE-STRUCTURED-LOCATION;VALUE=URI;X-ADDRESS=1 Nature Place\, McKinney\,
  TX 75069\, McKinney\, TX\, 75069\, United States;X-APPLE-RADIUS=100;X-TIT
 LE=Heard Natural Science Museum & Wildlife Sanctuary:geo:33.157873,-96.615
 218
END:VEVENT
BEGIN:VTIMEZONE
TZID:America/Chicago
X-LIC-LOCATION:America/Chicago
BEGIN:STANDARD
DTSTART:20241103T010000
TZOFFSETFROM:-0500
TZOFFSETTO:-0600
TZNAME:CST
END:STANDARD
END:VTIMEZONE
END:VCALENDAR