BEGIN:VCALENDAR
VERSION:2.0
PRODID:-//wp-events-plugin.com//7.2.3.1//EN
TZID:America/Chicago
X-WR-TIMEZONE:America/Chicago
BEGIN:VEVENT
UID:4511@ntmn.org
DTSTART;TZID=America/Chicago:20251101T093000
DTEND;TZID=America/Chicago:20251101T103000
DTSTAMP:20250822T181445Z
URL:https://ntmn.org/events/heard-museum-guided-trails-at-5/
SUMMARY:Heard Museum || Guided Trails (AT)
DESCRIPTION:Heard Museum || Guided Trails (AT)\nSaturday\, November 1\, 202
 5  |  9:30am – 10:30am CT\n\nDescription: Experience the ecology\, geo
 logy\, flora and fauna of the Heard Sanctuary. Led by our trained guides\,
  your group will spend 45-60 minutes hiking our unique landscape. See the 
 schedule below for dates. Have a group of 10 or more? We may be able to ar
 range a private hike for your group\; contact us for availability. Availa
 ble September through May\, as scheduled.\n\nFor more info &amp\; to regis
 ter:  https://www.heardmuseum.org/event/guided-trails-nov-1-2025/\nClick 
 the red “register” button\n\nLocation:  Heard Natural Science Museum 
 &amp\; Wildlife Sanctuary\, 1 Nature Place\, McKinney\, TX 75069\n\nReport
  hour to AT: NTX: Other Pre-Approved Training (Approved for 1 hr)\nDo not 
 include drive time\nLLB 08/22/2025
CATEGORIES:Guided Walks/AT
LOCATION:Heard Natural Science Museum & Wildlife Sanctuary\, 1 Nature Place
 \, McKinney\, TX 75069\, McKinney\, TX\, 75069\, United States
GEO:33.157873;-96.615218
X-APPLE-STRUCTURED-LOCATION;VALUE=URI;X-ADDRESS=1 Nature Place\, McKinney\,
  TX 75069\, McKinney\, TX\, 75069\, United States;X-APPLE-RADIUS=100;X-TIT
 LE=Heard Natural Science Museum & Wildlife Sanctuary:geo:33.157873,-96.615
 218
END:VEVENT
BEGIN:VTIMEZONE
TZID:America/Chicago
X-LIC-LOCATION:America/Chicago
BEGIN:DAYLIGHT
DTSTART:20250309T030000
TZOFFSETFROM:-0600
TZOFFSETTO:-0500
TZNAME:CDT
END:DAYLIGHT
END:VTIMEZONE
END:VCALENDAR