BEGIN:VCALENDAR
VERSION:2.0
PRODID:-//wp-events-plugin.com//7.2.3.1//EN
TZID:America/Chicago
X-WR-TIMEZONE:America/Chicago
BEGIN:VEVENT
UID:4253@ntmn.org
DTSTART;TZID=America/Chicago:20250712T083000
DTEND;TZID=America/Chicago:20250712T103000
DTSTAMP:20250704T194930Z
URL:https://ntmn.org/events/invasive-plant-removal-at-elm-fork-nature-pres
 erve-vh/
SUMMARY:Invasive Plant Removal at Elm Fork Nature Preserve (VH)
DESCRIPTION:Invasive plant removal at Elm Fork Nature Preserve\n\nSaturday\
 , July 12 from 830-10:30AM\nAddress is 2335 Sandy Lake Road\, Carrollton\,
  Texas (EFNP is in McInnish Park)\n\nThis plant removal will be in partner
 ship with Texas Conservation Alliance and Dallas County Parks and Open Spa
 ce. Waters\, loppers\, saws\, herbicides\, etc. will be provided to volunt
 eers and we will be handing out popsicles to combat the heat. We ask that 
 volunteers wear long sleeved shirts\, pants and closed toe shoes when visi
 ting the preserve.\n\nVH 2.5 hours Elm Fork Nature Preserve: Wildscape and
  Facility Maintenance.\n\nContact Daniela Parker at the City of Carrollton
  with questions at 972-466-9811 or John Pauley NTMN at 972-345-6945.\n\n6/
 17/25 cr
CATEGORIES:Public Events
END:VEVENT
BEGIN:VTIMEZONE
TZID:America/Chicago
X-LIC-LOCATION:America/Chicago
BEGIN:DAYLIGHT
DTSTART:20250309T030000
TZOFFSETFROM:-0600
TZOFFSETTO:-0500
TZNAME:CDT
END:DAYLIGHT
END:VTIMEZONE
END:VCALENDAR