BEGIN:VCALENDAR
VERSION:2.0
PRODID:-//wp-events-plugin.com//7.2.3.1//EN
TZID:America/Chicago
X-WR-TIMEZONE:America/Chicago
BEGIN:VEVENT
UID:4551@ntmn.org
DTSTART;TZID=America/Chicago:20251206T073000
DTEND;TZID=America/Chicago:20251206T113000
DTSTAMP:20251126T171551Z
URL:https://ntmn.org/events/john-bunker-sands-wetland-center-1st-saturday-
 walk-talk-bird-tour-at-12/
SUMMARY:John Bunker Sands Wetland Center || 1st Saturday Walk & Talk Bird T
 our (AT)
DESCRIPTION:John Bunker Sands Wetland Center || 1st Saturday Walk &amp\; Ta
 lk Bird Tour (AT)\nSaturday\, December 6\, 2025  ||  7:30am – 11:30am
    CT\n\nDescription:  Join us as we go on a walking bird tour and lear
 n about the birds that live at the wetland. In this beginner-to-intermedia
 te class\, you'll learn from a master birder how to use binoculars and fie
 ld guides\, keep a life list and ID birds. Recommended for ages 10 and ove
 r. Group size is limited to just 12 to enhance your birding experience.\n\
 nOur tours are the first Saturday of each month. The walks are very fluid\
 , &amp\; depending upon birds &amp\; environment\, can run up to 4 hours. 
 . Our September-May tours begin at 7:30 and cost $10 per person. Our June-
 August summer tours\, which premiere in 2026\, begin at 6 a.m. at a reduce
 d cost of just $5. There is no additional charge for admission.\n\nFees: 
  $10/per person\; must register.\n\nRegistration:  https://givebutter.com
 /1st-Saturday\n\nLocation:  John Bunker Sands Wetland Center\, 655 Martin
  Lane\, Combine\, Texas 75159\n\nReport hours to AT: NTX: Other Pre-Approv
 ed Training (Approved for up to 4 hours AT)\nDo not include drive time.\nL
 LB 08/31/2025\nLLB 11/26/2025 updated time frame &amp\; the hours
CATEGORIES:Guided Walks/AT
LOCATION:John Bunker Sands Wetland Center\, 655 Martin Lane\, Seagoville\, 
 TX 75159\, Seagoville\, TX\, 75159\, United States
GEO:32.613516;-96.500989
X-APPLE-STRUCTURED-LOCATION;VALUE=URI;X-ADDRESS=655 Martin Lane\, Seagovill
 e\, TX 75159\, Seagoville\, TX\, 75159\, United States;X-APPLE-RADIUS=100;
 X-TITLE=John Bunker Sands Wetland Center:geo:32.613516,-96.500989
END:VEVENT
BEGIN:VTIMEZONE
TZID:America/Chicago
X-LIC-LOCATION:America/Chicago
BEGIN:STANDARD
DTSTART:20251102T010000
TZOFFSETFROM:-0500
TZOFFSETTO:-0600
TZNAME:CST
END:STANDARD
END:VTIMEZONE
END:VCALENDAR