BEGIN:VCALENDAR
VERSION:2.0
PRODID:-//wp-events-plugin.com//7.2.3.1//EN
TZID:America/Chicago
X-WR-TIMEZONE:America/Chicago
BEGIN:VEVENT
UID:2639@ntmn.org
DTSTART;TZID=America/Chicago:20250118T090000
DTEND;TZID=America/Chicago:20250118T103000
DTSTAMP:20241108T042320Z
URL:https://ntmn.org/events/john-bunker-sands-wetland-center-3rd-saturday-
 guided-boardwalk-tour-at-4/
SUMMARY:John Bunker Sands Wetland Center || 3rd Saturday Guided Boardwalk T
 our (AT)
DESCRIPTION:John Bunker Sands Wetland Center || 3rd Saturday Guided Boardwa
 lk Tour (AT)\nSaturday\, January 18\, 2025 ||  9:00 AM – 10:30 AM   
  CT\n\nDescription:  As your guide leads you down the boardwalk into the 
 wetland\, you’ll learn about this special ecosystem’s flora and fauna 
 and the fascinating history of the property. Topics also include the innov
 ative design of the wetland\, the relationship the wetland has with water 
 supply and the interaction between human engineering and nature. Dress for
  the weather and bring water.\n\nNo reservations required!\nIf you have a 
 group of 10 or more\, please contact the Center to schedule a separate tou
 r.\n\nFees:  Free with admission\n\nLocation: John Bunker Sands Wetland C
 enter\, 655 Martin Lane\, Seagoville\, TX 75159\nFor more information call
  972-474-9100\n\nWebsite: http://www.wetlandcenter.com/programs\n\nReport 
 hours to AT: NTX: Other Pre-Approved Training (Approved for 1.5 hours AT)\
 nDo not include drive time.\nLLB 11/07/2024
CATEGORIES:Guided Walks/AT
LOCATION:John Bunker Sands Wetland Center\, 655 Martin Lane\, Seagoville\, 
 TX 75159\, Seagoville\, TX\, 75159\, United States
GEO:32.613516;-96.500989
X-APPLE-STRUCTURED-LOCATION;VALUE=URI;X-ADDRESS=655 Martin Lane\, Seagovill
 e\, TX 75159\, Seagoville\, TX\, 75159\, United States;X-APPLE-RADIUS=100;
 X-TITLE=John Bunker Sands Wetland Center:geo:32.613516,-96.500989
END:VEVENT
BEGIN:VTIMEZONE
TZID:America/Chicago
X-LIC-LOCATION:America/Chicago
BEGIN:STANDARD
DTSTART:20241103T010000
TZOFFSETFROM:-0500
TZOFFSETTO:-0600
TZNAME:CST
END:STANDARD
END:VTIMEZONE
END:VCALENDAR