BEGIN:VCALENDAR
VERSION:2.0
PRODID:-//wp-events-plugin.com//7.2.3.1//EN
TZID:America/Chicago
X-WR-TIMEZONE:America/Chicago
BEGIN:VEVENT
UID:4902@ntmn.org
DTSTART;TZID=America/Chicago:20251114T100000
DTEND;TZID=America/Chicago:20251114T120000
DTSTAMP:20251106T143213Z
URL:https://ntmn.org/events/kiest-conservation-area-planting-event-vh/
SUMMARY:Kiest Conservation Area Planting Event (VH)
DESCRIPTION:When: Friday\, November 14th\,  2025\,  10:00 am - 12:00am\n\
 nWhere: Kiest Conservation Area\, 3238 S Hampton    75224\n\nKCA West (p
 arking lot side) entrance\nWhat: Planting Native Prairie Grass Plugs in th
 e new "Big Four" grasses bed\nSponsored by: The Friends of Oak Cliff Parks
 \nFOCP Info: friendsofoakcliffparks.org\n\nLog hours in VMS under Dallas 
 Parks and Open Spaces\, Note event/location\n\n11/6/25 cr
CATEGORIES:Public Events
END:VEVENT
BEGIN:VTIMEZONE
TZID:America/Chicago
X-LIC-LOCATION:America/Chicago
BEGIN:STANDARD
DTSTART:20251102T010000
TZOFFSETFROM:-0500
TZOFFSETTO:-0600
TZNAME:CST
END:STANDARD
END:VTIMEZONE
END:VCALENDAR