BEGIN:VCALENDAR
VERSION:2.0
PRODID:-//wp-events-plugin.com//7.2.3.1//EN
TZID:America/Chicago
X-WR-TIMEZONE:America/Chicago
BEGIN:VEVENT
UID:1599@ntmn.org
DTSTART;TZID=America/Chicago:20240504T100000
DTEND;TZID=America/Chicago:20240504T110000
DTSTAMP:20240415T190136Z
URL:https://ntmn.org/events/laura-w-bush-native-texas-park-guided-walk-at-
 5/
SUMMARY:Laura W Bush Native Texas Park – Guided Walk (AT)
DESCRIPTION:Laura W Bush Native Texas Park – Guided Walk (AT)\nSaturday\,
  May 4\, 2024  |  10:00am-11:00am  \n\nThe park guides are Certified Ma
 ster Naturalists from 3 local chapters.\n\nVisitors to the park will learn
  about the installation and continued maintenance of a Blackland prairie\,
  native Texas trees\, wildflowers\, hydrology\, entomology (monarch migrat
 ion-pollinators)\, characteristics of the 3 Ecoregions in the DFW area\, a
 nd how visitors can work to increase use of natives plants and conservatio
 n in their home areas.\n\nLocation:  Laura W Bush Native Texas Park\, 294
 3 SMU Blvd. Dallas\, TX 75205\n\nTour tickets are free\;\n\nSign up for gu
 ided tour: https://event.bushcenter.org/event/native-texas-park-tours/tick
 ets\n\nContact: boxoffice@bushcenter.org or 214.200.4306 for details.\n
 \nReport hours to AT: NTX: Other Pre-Approved Training (Approved for 1 hou
 r AT)\nDo not include drive time.\nLLB 04/13/2024  Added to both sites
CATEGORIES:Guided Walks/AT,Public Events
LOCATION:Laura W Bush Native Texas Park\, 2943 SMU Blvd. Dallas\, TX 75205\
 , Dallas\, Tx\, 75205\, United States
GEO:32.841026;-96.777952
X-APPLE-STRUCTURED-LOCATION;VALUE=URI;X-ADDRESS=2943 SMU Blvd. Dallas\, TX 
 75205\, Dallas\, Tx\, 75205\, United States;X-APPLE-RADIUS=100;X-TITLE=Lau
 ra W Bush Native Texas Park:geo:32.841026,-96.777952
END:VEVENT
BEGIN:VTIMEZONE
TZID:America/Chicago
X-LIC-LOCATION:America/Chicago
BEGIN:DAYLIGHT
DTSTART:20240310T030000
TZOFFSETFROM:-0600
TZOFFSETTO:-0500
TZNAME:CDT
END:DAYLIGHT
END:VTIMEZONE
END:VCALENDAR