BEGIN:VCALENDAR
VERSION:2.0
PRODID:-//wp-events-plugin.com//7.2.3.1//EN
TZID:America/Chicago
X-WR-TIMEZONE:America/Chicago
BEGIN:VEVENT
UID:2373@ntmn.org
DTSTART;TZID=America/Chicago:20240907T100000
DTEND;TZID=America/Chicago:20240907T120000
DTSTAMP:20240830T231153Z
URL:https://ntmn.org/events/llela-1st-saturday-nature-walk-at-3/
SUMMARY:LLELA  || 1st Saturday Nature Walk–(AT)
DESCRIPTION:LLELA  || 1st Saturday Nature Walk–(AT)\nSaturday\, Septembe
 r 07\, 2024  ||  10am -12am  CT\n\nJoin us for our monthly naturalist-l
 ed nature walk!\n\nDescription:  Each season at LLELA is different\, and 
 we never know what we’ll find—deer tracks\, autumn leaves\, blooming w
 ildflowers\, nesting songbirds\, butterflies\, and much more. The hike wil
 l last about two hours\, and all ages are welcome. There is no additional 
 fee for this hike\, just the regular LLELA $5/vehicle entrance fee which i
 s payable with debit or credit card only - we do not accept cash.\n\nRegis
 tration is required: https://www.llela.org/Home/Components/Calendar/Event
 /73872/3382\nClick on “Register to save your space today!” at the bot
 tom\n\nFees:  There is no additional fee for this walk\, just LLELA’s r
 egular gate fee ($5/vehicle).\n\nLocation: Lewisville Lake Environmental L
 earning Area Classroom\, 201 E. Jones St.\, Lewisville\, TX 75057\n\nRepor
 t AT hours to AT: NTX: Other Pre-Approved Training (Approved for up to 2 h
 ours AT)\nDo not include drive time.\nLLB 08/30/2024
CATEGORIES:Guided Walks/AT
LOCATION:Lewisville Lake Environmental Learning Area Classroom\, 201 E. Jon
 es St.\, Lewisville\, TX 75057\, Lewisville\, TX\, 75057\, United States
GEO:33.070199;-96.953785
X-APPLE-STRUCTURED-LOCATION;VALUE=URI;X-ADDRESS=201 E. Jones St.\, Lewisvil
 le\, TX 75057\, Lewisville\, TX\, 75057\, United States;X-APPLE-RADIUS=100
 ;X-TITLE=Lewisville Lake Environmental Learning Area Classroom:geo:33.0701
 99,-96.953785
END:VEVENT
BEGIN:VTIMEZONE
TZID:America/Chicago
X-LIC-LOCATION:America/Chicago
BEGIN:DAYLIGHT
DTSTART:20240310T030000
TZOFFSETFROM:-0600
TZOFFSETTO:-0500
TZNAME:CDT
END:DAYLIGHT
END:VTIMEZONE
END:VCALENDAR