BEGIN:VCALENDAR
VERSION:2.0
PRODID:-//wp-events-plugin.com//7.2.3.1//EN
TZID:America/Chicago
X-WR-TIMEZONE:America/Chicago
BEGIN:VEVENT
UID:2374@ntmn.org
DTSTART;TZID=America/Chicago:20240914T073000
DTEND;TZID=America/Chicago:20240914T110000
DTSTAMP:20240830T233028Z
URL:https://ntmn.org/events/llela-2nd-saturday-bird-walk-at/
SUMMARY:LLELA || 2nd Saturday Bird Walk (AT)
DESCRIPTION:LLELA || 2nd Saturday Bird Walk (AT)\nSaturday\, September 14\,
  2024  |  7:30am – 11:00am   CT\n\nDescription:  Birders of all ski
 ll levels are welcome to join an expert birder at 7:30 AM as we explore pr
 ime birding locations along LLELA's nature trails. Ages 10 and up.  .\n\n
 Fees:  $5.00 per class plus LLELA’s regular gate fee of $5/vehicle\, pa
 yable by debit or credit only\n\nRegistration:  Registration is required.
   For more information and to register\, please visit:\nhttps://www.llela
 .org/Home/Components/Calendar/Event/73876/3382\n*Registration will open 14
  days prior to the event.*\n\nLocation: Lewisville Lake Environmental Lear
 ning Area\, 201 E. Jones St.\, Lewisville\, TX 75057\n\nReport AT hours to
  AT: NTX: Other Pre-Approved Training (Approved for up to 3.5 hours AT)\nD
 o not include drive time.\nLLB 08/30/2024
CATEGORIES:Guided Walks/AT
LOCATION:Lewisville Lake Environmental Learning Area\, 201 E. Jones St.\, L
 ewisville\, TX 75057\, Lewisville\, TX\, 75057\, United States
GEO:33.070199;-96.953785
X-APPLE-STRUCTURED-LOCATION;VALUE=URI;X-ADDRESS=201 E. Jones St.\, Lewisvil
 le\, TX 75057\, Lewisville\, TX\, 75057\, United States;X-APPLE-RADIUS=100
 ;X-TITLE=Lewisville Lake Environmental Learning Area:geo:33.070199,-96.953
 785
END:VEVENT
BEGIN:VTIMEZONE
TZID:America/Chicago
X-LIC-LOCATION:America/Chicago
BEGIN:DAYLIGHT
DTSTART:20240310T030000
TZOFFSETFROM:-0600
TZOFFSETTO:-0500
TZNAME:CDT
END:DAYLIGHT
END:VTIMEZONE
END:VCALENDAR