BEGIN:VCALENDAR
VERSION:2.0
PRODID:-//wp-events-plugin.com//7.2.3.1//EN
TZID:America/Chicago
X-WR-TIMEZONE:America/Chicago
BEGIN:VEVENT
UID:5674@ntmn.org
DTSTART;TZID=America/Chicago:20260118T090000
DTEND;TZID=America/Chicago:20260118T103000
DTSTAMP:20260111T011348Z
URL:https://ntmn.org/events/llela-nature-walk-at-thrive-at/
SUMMARY:LLELA || Nature Walk  at Thrive (AT)
DESCRIPTION:LLELA || Nature Walk  at Thrive (AT)\nSunday\, January 18\, 20
 26  ||  9am  – 10:30am    CT\n\nDescription:  Sights of plants an
 d wildlife\, smells of fresh air and trees\, the sounds of birds and the b
 lowing breeze. This is what you can experience on our monthly nature walk 
 at Thrive Nature Park! Join us every 3rd Sunday for a guided walk to conne
 ct with nature and the outdoors. This family-friendly hike will last 90 mi
 nutes. \n\nFor more info &amp\; to register:   https://www.llela.org/Ho
 me/Components/Calendar/Event/85337/3382\nClick the “register here” lin
 k at bottom of above link.\nRegistration is required.\n\nScroll down to ca
 lendar\, Click on dropdown for Thrive Nature walks\; then click  “regis
 ter for drop in”\n\nLocation: Thrive Nature Park || 1950 S. Valley Pkwy\
 , Lewisville\, Texas 75067\n\nReport AT hours to AT: NTX: Other Pre-Appr
 oved Training (Approved for up to 1.5 hours AT)\nDo not include drive time
 .\nLLB 01/10/2026
CATEGORIES:Guided Walks/AT
LOCATION:Thrive Nature Park\, 1950 S. Valley Parkway\, Lewisville\, TX 750
 67\, Lewisville\, Texas\, 75067\, United States
GEO:33.019831;-97.020379
X-APPLE-STRUCTURED-LOCATION;VALUE=URI;X-ADDRESS=1950 S. Valley Parkway\, Le
 wisville\, TX 75067\, Lewisville\, Texas\, 75067\, United States;X-APPLE-
 RADIUS=100;X-TITLE=Thrive Nature Park:geo:33.019831,-97.020379
END:VEVENT
BEGIN:VTIMEZONE
TZID:America/Chicago
X-LIC-LOCATION:America/Chicago
BEGIN:STANDARD
DTSTART:20251102T010000
TZOFFSETFROM:-0500
TZOFFSETTO:-0600
TZNAME:CST
END:STANDARD
END:VTIMEZONE
END:VCALENDAR