BEGIN:VCALENDAR
VERSION:2.0
PRODID:-//wp-events-plugin.com//7.2.3.1//EN
TZID:America/Chicago
X-WR-TIMEZONE:America/Chicago
BEGIN:VEVENT
UID:6084@ntmn.org
DTSTART;TZID=America/Chicago:20260315T090000
DTEND;TZID=America/Chicago:20260315T103000
DTSTAMP:20260227T233020Z
URL:https://ntmn.org/events/llela-thrive-nature-walk-at-4/
SUMMARY:LLELA || Thrive Nature Walk –(AT)
DESCRIPTION:LLELA || Thrive Nature Walk –(AT)\nSunday\, March 15\, 20256|
  9:00am – 10:30am   CT\n\nDescription:  Sights of plants and wildlife
 \, smells of fresh air and trees\, the sounds of birds and the blowing bre
 eze. This is what you can experience on our monthly nature walk at Thrive 
 Nature Park! Join us every 3rd Sunday for a guided walk to connect with na
 ture and the outdoors. This family-friendly hike will last 90 minutes.\n\n
 Location:  Thrive Nature Park\;  1951 S. Valley Parkway\, Lewisville\, T
 X 75067\n\nRegistration is required.\n\nFor more information &amp\; regis
 tration: https://www.llela.org/Home/Components/Calendar/Event/85343/3382\n
 \nPlease report hours to: AT: NTX: Other Pre-approved Training (Approved f
 or 1.5 hours AT)\nDo not include drive time.\nLLB - 2/27/2026
CATEGORIES:Guided Walks/AT
LOCATION:Thrive Nature Park\;\, 1951 S. Valley Parkway\, Lewisville\, TX 7
 5067\, Lewisville\, TX\, 75067\, United States
GEO:33.018387;-97.019024
X-APPLE-STRUCTURED-LOCATION;VALUE=URI;X-ADDRESS=1951 S. Valley Parkway\, Le
 wisville\, TX 75067\, Lewisville\, TX\, 75067\, United States;X-APPLE-RAD
 IUS=100;X-TITLE=Thrive Nature Park;:geo:33.018387,-97.019024
END:VEVENT
BEGIN:VTIMEZONE
TZID:America/Chicago
X-LIC-LOCATION:America/Chicago
BEGIN:DAYLIGHT
DTSTART:20260308T030000
TZOFFSETFROM:-0600
TZOFFSETTO:-0500
TZNAME:CDT
END:DAYLIGHT
END:VTIMEZONE
END:VCALENDAR