BEGIN:VCALENDAR
VERSION:2.0
PRODID:-//wp-events-plugin.com//7.2.3.1//EN
TZID:America/Chicago
X-WR-TIMEZONE:America/Chicago
BEGIN:VEVENT
UID:6131@ntmn.org
DTSTART;TZID=America/Chicago:20261005T183000
DTEND;TZID=America/Chicago:20261005T203000
DTSTAMP:20260305T211032Z
URL:https://ntmn.org/events/monthly-board-meeting-via-zoom-4/
SUMMARY:Monthly Board Meeting Via  Zoom
DESCRIPTION:Board Meetings are open to all members and to the public.
CATEGORIES:Board Meeting,Public Events
END:VEVENT
BEGIN:VTIMEZONE
TZID:America/Chicago
X-LIC-LOCATION:America/Chicago
BEGIN:DAYLIGHT
DTSTART:20260308T030000
TZOFFSETFROM:-0600
TZOFFSETTO:-0500
TZNAME:CDT
END:DAYLIGHT
END:VTIMEZONE
END:VCALENDAR