BEGIN:VCALENDAR
VERSION:2.0
PRODID:-//wp-events-plugin.com//7.2.3.1//EN
TZID:America/Chicago
X-WR-TIMEZONE:America/Chicago
BEGIN:VEVENT
UID:6132@ntmn.org
DTSTART;TZID=America/Chicago:20261207T183000
DTEND;TZID=America/Chicago:20261207T203000
DTSTAMP:20260305T211301Z
URL:https://ntmn.org/events/monthly-board-meeting-via-zoom-5/
SUMMARY:Monthly Board Meeting Via  Zoom
DESCRIPTION:Board Meetings are open to all members and to the public.
CATEGORIES:Board Meeting,Public Events
END:VEVENT
BEGIN:VTIMEZONE
TZID:America/Chicago
X-LIC-LOCATION:America/Chicago
BEGIN:STANDARD
DTSTART:20261101T010000
TZOFFSETFROM:-0500
TZOFFSETTO:-0600
TZNAME:CST
END:STANDARD
END:VTIMEZONE
END:VCALENDAR