BEGIN:VCALENDAR
VERSION:2.0
PRODID:-//wp-events-plugin.com//7.2.3.1//EN
TZID:America/Chicago
X-WR-TIMEZONE:America/Chicago
BEGIN:VEVENT
UID:784@ntmn.org
DTSTART;TZID=America/Chicago:20240401T192300
DTEND;TZID=America/Chicago:20250407T202300
DTSTAMP:20240305T235050Z
URL:https://ntmn.org/event-recurring/monthly-board-meeting-via-zoom/
SUMMARY:Monthly Board Meeting Via  Zoom
DESCRIPTION:Board Meetings are open to all members and to the public. Pleas
 e contact the Vice President at vicepresident@ntmn.org for meeting details
  if you want to attend.
CATEGORIES:Board Meeting,Public Events
END:VEVENT
BEGIN:VTIMEZONE
TZID:America/Chicago
X-LIC-LOCATION:America/Chicago
BEGIN:DAYLIGHT
DTSTART:20240310T030000
TZOFFSETFROM:-0600
TZOFFSETTO:-0500
TZNAME:CDT
END:DAYLIGHT
BEGIN:STANDARD
DTSTART:20241103T010000
TZOFFSETFROM:-0500
TZOFFSETTO:-0600
TZNAME:CST
END:STANDARD
BEGIN:DAYLIGHT
DTSTART:20250309T030000
TZOFFSETFROM:-0600
TZOFFSETTO:-0500
TZNAME:CDT
END:DAYLIGHT
END:VTIMEZONE
END:VCALENDAR