BEGIN:VCALENDAR
VERSION:2.0
PRODID:-//wp-events-plugin.com//7.2.3.1//EN
TZID:America/Chicago
X-WR-TIMEZONE:America/Chicago
BEGIN:VEVENT
UID:6128@ntmn.org
DTSTART;TZID=America/Chicago:20260504T183000
DTEND;TZID=America/Chicago:20260504T203000
DTSTAMP:20260305T205530Z
URL:https://ntmn.org/events/monthly-board-meeting/
SUMMARY:Monthly Board Meeting
DESCRIPTION:Board Meetings are open to all members and to the public.
CATEGORIES:Board Meeting,Public Events
LOCATION:REI\, 5929 E Northwest Highway\, Dallas\, Texas\, 75231\, United S
 tates
GEO:32.866138;-96.76266
X-APPLE-STRUCTURED-LOCATION;VALUE=URI;X-ADDRESS=5929 E Northwest Highway\, 
 Dallas\, Texas\, 75231\, United States;X-APPLE-RADIUS=100;X-TITLE=REI:geo:
 32.866138,-96.76266
END:VEVENT
BEGIN:VTIMEZONE
TZID:America/Chicago
X-LIC-LOCATION:America/Chicago
BEGIN:DAYLIGHT
DTSTART:20260308T030000
TZOFFSETFROM:-0600
TZOFFSETTO:-0500
TZNAME:CDT
END:DAYLIGHT
END:VTIMEZONE
END:VCALENDAR