BEGIN:VCALENDAR
VERSION:2.0
PRODID:-//wp-events-plugin.com//7.2.3.1//EN
TZID:America/Chicago
X-WR-TIMEZONE:America/Chicago
BEGIN:VEVENT
UID:2298@ntmn.org
DTSTART;TZID=America/Chicago:20240914T090000
DTEND;TZID=America/Chicago:20240914T140000
DTSTAMP:20240821T223939Z
URL:https://ntmn.org/events/nature-unidos-at-trinity-river-audubon-center/
SUMMARY:Nature Unidos at Trinity River Audubon Center
DESCRIPTION:Nature Unidos at Trinity River Audubon Center\n\nSaturday\, Sep
 tember 14\, 2024 9am - 2pm   Trinity River Audubon Center. Outreach tabl
 e in the Great Hall.\n\nTRAC is excited to host the first annual Nature Un
 idos event\, highlighting the vital role that Latinos play in environmenta
 l stewardship while also celebrating the vibrant cultural heritage of the 
 Latino community. As an exhibitor with NTMN Outreach\, you will have the o
 pportunity to:\n- Connect with a diverse audience passionate about conserv
 ation and culture\n- Share your initiatives and projects with the communit
 y\n- Network with the other organizations and leaders in the field\n- Cele
 brate and promote Latino culture and contributions to conservation\n\nNOTE
 S:  Expo and Outreach Table will be 10am - 2pm in the Great Hall. Setup f
 or all exhibitors is 9am - 10am. Please only use the roundabout parking fo
 r unloading and not for parking during the event. A wedding will be settin
 g up around 2pm and the roundabout will be busy at that time. If you would
  like TRAC's ATV to shuttle you to your car for loading\, please let Sofia
  Lopez know ahead of time so that can be arranged. Volunteer Signup has 4 
 slots\, but we would love to have a large showing at this fantastic event!
 \n\nVOLUNTEER SIGNUP: https://volunteersignup.org/KQ88T\n\nCONTACT:  Sofi
 a Lopez\, TRAC Educator. (214) 736-2191. Email sofia.lopez@audobon.org\nN
 TMN Contact:  Ashley Steel  (817) 851-9341  Email: ashleyrsteel@gmail.
 com\n\nReport VH as:  NTX: Outreach Events (TRAC Nature Unidos)\n\n8/20/2
 024 CLG
CATEGORIES:Public Events
LOCATION:Trinity River Audubon Center\, 6500 Great Trinity Forest Way\, Dal
 las\, TX 75217\, DALLAS\, Texas\, 75217\, United States
GEO:32.703643;-96.705377
X-APPLE-STRUCTURED-LOCATION;VALUE=URI;X-ADDRESS=6500 Great Trinity Forest W
 ay\, Dallas\, TX 75217\, DALLAS\, Texas\, 75217\, United States;X-APPLE-RA
 DIUS=100;X-TITLE=Trinity River Audubon Center:geo:32.703643,-96.705377
END:VEVENT
BEGIN:VTIMEZONE
TZID:America/Chicago
X-LIC-LOCATION:America/Chicago
BEGIN:DAYLIGHT
DTSTART:20240310T030000
TZOFFSETFROM:-0600
TZOFFSETTO:-0500
TZNAME:CDT
END:DAYLIGHT
END:VTIMEZONE
END:VCALENDAR