BEGIN:VCALENDAR
VERSION:2.0
PRODID:-//wp-events-plugin.com//7.2.3.1//EN
TZID:America/Chicago
X-WR-TIMEZONE:America/Chicago
BEGIN:VEVENT
UID:3686@ntmn.org
DTSTART;TZID=America/Chicago:20251017T080000
DTEND;TZID=America/Chicago:20251017T100000
DTSTAMP:20250305T000717Z
URL:https://ntmn.org/events/paschall-park-butterfly-trail-workday-vh-12/
SUMMARY:Paschall Park Butterfly Trail Workday (VH)
DESCRIPTION:Event Name: Paschall Park Butterfly Trail Workday (VH)\n\nDate/
 Time: Friday October 17\, 2025\, 8-10am\n\nAddress: Paschall Park Butterfl
 y Trail\, 1001 New Market Road\, Mesquite\, 75149\n\nDescription of event 
 and what volunteers will be doing:\n\nWildscape and Facility Maintenance -
  In one of three meadows where we are reestablishing a prairie remnant: ou
 r task will be to do one or more of the following: remove invasive plants 
 by weeding\, hand trimming\, weed-eating\, dethatching\, trash removal\, p
 lanting seed\, and planting native plants\, if available. Bring a hat\, gl
 oves\, and a water bottle. The supplies recommended for that particular da
 te will be emailed to you when you RSVP.\n\nTo RSVP\, for questions\, or t
 o be put on the notification list\, send email with subject: PPBT NTMN Vol
 .  I will contact email you in case of cancellation due to weather or oth
 er circumstance. Terri White - terreyew@gmail.com\n\nSpecial instructions 
 for parking and or inclement weather: Park in the large unlabeled parking 
 lot with football fields\, on the north side of New Market\, which is clos
 er to the I-635 feeder (than the lot which has the Paschall Park sign.) Pa
 rk in an east facing space near New Market. Meadow One will be in front of
  you approximately 30 yards.\n\nIs this volunteer event also open to the p
 ublic? Yes\n\nLog hours in VMS under Paschall Park - Wildscape &amp\; Faci
 lity Maintenance\n\n3/4/25 cr
CATEGORIES:Public Events
LOCATION:Paschall Park Butterfly Trail\, 1001 New Market Rd.\, Mesquite TX\
 , Mesquite\, TX\, United States
GEO:32.757794;-96.609248
X-APPLE-STRUCTURED-LOCATION;VALUE=URI;X-ADDRESS=1001 New Market Rd.\, Mesqu
 ite TX\, Mesquite\, TX\, United States;X-APPLE-RADIUS=100;X-TITLE=Paschall
  Park Butterfly Trail:geo:32.757794,-96.609248
END:VEVENT
BEGIN:VTIMEZONE
TZID:America/Chicago
X-LIC-LOCATION:America/Chicago
BEGIN:DAYLIGHT
DTSTART:20250309T030000
TZOFFSETFROM:-0600
TZOFFSETTO:-0500
TZNAME:CDT
END:DAYLIGHT
END:VTIMEZONE
END:VCALENDAR