BEGIN:VCALENDAR
VERSION:2.0
PRODID:-//wp-events-plugin.com//7.2.3.1//EN
TZID:America/Chicago
X-WR-TIMEZONE:America/Chicago
BEGIN:VEVENT
UID:3778@ntmn.org
DTSTART;TZID=America/Chicago:20250329T090000
DTEND;TZID=America/Chicago:20250329T120000
DTSTAMP:20250311T230141Z
URL:https://ntmn.org/events/texas-trees-foundation-workday-vh-2-2025-03-29
 /
SUMMARY:Texas Trees Foundation Workday (VH)
DESCRIPTION:See link for details on volunteer opportunities: https://interl
 and3.donorperfect.net/weblink/weblink.aspx?name=E347204&amp\;id=303\n\nDat
 e/Time: (varies\, see link)\n\nAddress: (varies\, see link)\n\nDescription
  of event and what volunteers will be doing: focuses on making a significa
 nt impact by planting trees where they are most needed to equalize people'
 s access to the beneﬁts of trees. We work with local community partners 
 to plant trees in community spaces.\n\nVolunteer contact person and phone/
 email: Willette Jackson\, 678-468-3445\, willette@texastrees.org\n\nNTMN P
 roject Lead: Adam George Adam@texastrees.org\n\nRSVP instructions or link 
 to online volunteer signup (see link above)\n\nSpecial instructions for pa
 rking and or inclement weather: Volunteers will be contacted in case of ca
 ncellation\n\nIs this event also open to the public? yes\n\nVMS instructio
 ns for logging VH\, select: Texas Trees Foundation and include event descr
 iption in the comments\n\n3/11/25 cr
CATEGORIES:Public Events
END:VEVENT
BEGIN:VTIMEZONE
TZID:America/Chicago
X-LIC-LOCATION:America/Chicago
BEGIN:DAYLIGHT
DTSTART:20250309T030000
TZOFFSETFROM:-0600
TZOFFSETTO:-0500
TZNAME:CDT
END:DAYLIGHT
END:VTIMEZONE
END:VCALENDAR