BEGIN:VCALENDAR
VERSION:2.0
PRODID:-//wp-events-plugin.com//7.2.3.1//EN
TZID:America/Chicago
X-WR-TIMEZONE:America/Chicago
BEGIN:VEVENT
UID:2159@ntmn.org
DTSTART;TZID=America/Chicago:20240803T090000
DTEND;TZID=America/Chicago:20240803T110000
DTSTAMP:20240717T024244Z
URL:https://ntmn.org/events/tmn-elm-fork-chapter-early-bird-watch-and-walk
 -at-furneaux-creek-at/
SUMMARY:TMN-Elm Fork Chapter || Early Bird Watch and Walk at Furneaux Creek
  (AT)
DESCRIPTION:TMN-Elm Fork Chapter || Early Bird Watch and Walk at Furneaux C
 reek (AT)\nSaturday\, August 3\, 2024   9:00 AM – 11:00 AM\n\nMeet at 
 the Kiosk on the trail at 4100 Arbor Creek Dr. – Look for the Monarch bu
 tterfly wing on the side!\n\nDescription: Join Randy Moody and Friends of 
 Furneaux Creek for a Bird Watch and Walk through the FoFC Nature Trail.  
 Be sure to dress for the weather\, and bring your camera and binoculars! (
 and Water)\n\nAdditional note:\nThe Furneaux Creek Nature Trail is open ev
 ery day of the week during daylight hours. Trail tours will be arranged fo
 r anyone or group interested.  Volunteer work with service hours can be s
 cheduled for any day of the week.\nContact Richard Johnson at RLJGJ@hotma
 il.com for more information.\n\nThe Furneaux Creek Nature Trail is open e
 very day of the week during daylight hours.  Trail tours can be arranged 
 by anyone or any group that is interested.  Please consider volunteering 
 on the trail. We can always use more help to plant\, weed\, water\, clean 
 up\, etc. Volunteer work with service hours can be scheduled for any day o
 f the week.\nFurneacreekfriends@gmail.com   or contact Richard Johnson a
 t RLJGJ@hotmail.com for more information.\n\nLocation: Friends of Furnea
 ux Creek Nature Trail – 4100 Arbor Creek Drive at Branch Hollow Park\, C
 arrollton\, TX 75007\n\nJoin us on  Facebook   @furneauxcreeknaturetrai
 l\n\nFor more information:  https://txmn.org/elmfork/events-calendar/earl
 y-bird-watch-and-walk-at-furneaux-creek-at-5/2024-08-03/\n\nReport AT to A
 T: NTX: Other Pre-Approved Training (Approved for 2 hours AT)\nDo not incl
 ude drive time.\nLLB 07/16/24
CATEGORIES:Guided Walks/AT
LOCATION:Furneaux Creek Nature Trail\, 4100 Arbor Creek Drive at Branch Hol
 low Park\, Carrollton\, TX 75007\, Carrollton\, TX\, 75007\, United States
GEO:33.022761;-96.871263
X-APPLE-STRUCTURED-LOCATION;VALUE=URI;X-ADDRESS=4100 Arbor Creek Drive at B
 ranch Hollow Park\, Carrollton\, TX 75007\, Carrollton\, TX\, 75007\, Unit
 ed States;X-APPLE-RADIUS=100;X-TITLE=Furneaux Creek Nature Trail:geo:33.02
 2761,-96.871263
END:VEVENT
BEGIN:VTIMEZONE
TZID:America/Chicago
X-LIC-LOCATION:America/Chicago
BEGIN:DAYLIGHT
DTSTART:20240310T030000
TZOFFSETFROM:-0600
TZOFFSETTO:-0500
TZNAME:CDT
END:DAYLIGHT
END:VTIMEZONE
END:VCALENDAR