BEGIN:VCALENDAR
VERSION:2.0
PRODID:-//wp-events-plugin.com//7.2.3.1//EN
TZID:America/Chicago
X-WR-TIMEZONE:America/Chicago
BEGIN:VEVENT
UID:4690@ntmn.org
DTSTART;TZID=America/Chicago:20251018T073000
DTEND;TZID=America/Chicago:20251018T090000
DTSTAMP:20250911T220441Z
URL:https://ntmn.org/events/trinity-river-audubon-center-morning-bird-walk
 -at-12/
SUMMARY:Trinity River Audubon Center || Morning Bird Walk (AT)
DESCRIPTION:Trinity River Audubon Center || Morning Bird Walk (AT)\nSaturda
 y\, October 18\, 2025  ||  7:30am  – 9am   CT\n\nDescription:  Joi
 n us for a monthly bird walk to enjoy the trails and our amazing feathered
  friends. Entry to the center is included in your ticket price.\nWe will e
 xplore the various habitats at the Audubon Center in search of different b
 ird species that utilize them! Please be sure to bring a pair of binocular
 s\, wear comfortable footwear\, and be prepared for the weather.\n\nFor mo
 re info &amp\; to Register:   https://trinityriver.audubon.org/events/mo
 rning-bird-walk-24\nClick on “Sign up here” on link above\n\nWebsite: 
 https://trinityriver.audubon.org/\n\nLocation:  Trinity River Audubon Cen
 ter\, 6500 Great Trinity Forest Way\, Dallas\, TX 75217\,\n\nReport hour t
 o AT: NTX: Other Pre-Approved Training (Approved for 1.5 hr)\nDo not inclu
 de drive time\nLLB 09/11/2025
CATEGORIES:Guided Walks/AT
LOCATION:Trinity River Audubon Center\, 6500 Great Trinity Forest Way\, Dal
 las\, TX 75217\, DALLAS\, Texas\, 75217\, United States
GEO:32.703643;-96.705377
X-APPLE-STRUCTURED-LOCATION;VALUE=URI;X-ADDRESS=6500 Great Trinity Forest W
 ay\, Dallas\, TX 75217\, DALLAS\, Texas\, 75217\, United States;X-APPLE-RA
 DIUS=100;X-TITLE=Trinity River Audubon Center:geo:32.703643,-96.705377
END:VEVENT
BEGIN:VTIMEZONE
TZID:America/Chicago
X-LIC-LOCATION:America/Chicago
BEGIN:DAYLIGHT
DTSTART:20250309T030000
TZOFFSETFROM:-0600
TZOFFSETTO:-0500
TZNAME:CDT
END:DAYLIGHT
END:VTIMEZONE
END:VCALENDAR