BEGIN:VCALENDAR
VERSION:2.0
PRODID:-//wp-events-plugin.com//7.2.3.1//EN
TZID:America/Chicago
X-WR-TIMEZONE:America/Chicago
BEGIN:VEVENT
UID:2258@ntmn.org
DTSTART;TZID=America/Chicago:20240921T073000
DTEND;TZID=America/Chicago:20240921T083000
DTSTAMP:20240805T162146Z
URL:https://ntmn.org/events/trinity-river-audubon-center-morning-bird-walk
 -at-4/
SUMMARY:Trinity River Audubon Center || Morning Bird Walk (AT)
DESCRIPTION:Trinity River Audubon Center || Morning Bird Walk (AT)\nSaturda
 y\, September 21\, 2024  |  7:30am-8:30am  CT\n\nDescription:  Hit the
  trails with us to spot some birds! Please bring comfortable footwear and 
 a pair of binoculars. We have a limited supply of binoculars available to 
 borrow if you don’t own any. Entry to the center is included in your ti
 cket price.\n\nWe will explore the various habitats at the Audubon Center 
 in search of different bird species that utilize them! Please be sure to b
 ring a pair of binoculars\, wear comfortable footwear\, and be prepared fo
 r the weather.\n\nWe are limiting this walk to 15 people. You must be regi
 stered in advance to attend.\n\nRegister:  https://trinityriver.audubon.o
 rg/events/morning-bird-walk-28\nClick on “Register Here”\n\nLocation:
   Trinity River Audubon Center\, 6500 Great Trinity Forest Way\, Dallas\,
  TX 75217\n\n 	Venue Website: https://trinityriver.audubon.org\n 	Contact
  for Questions: TRAC@audubon.org\n\nReport hour to AT: NTX: Other Pre-App
 roved Training (Approved for 1 hr) Do not include drive time\nLLB 08/05/20
 24
CATEGORIES:Guided Walks/AT
LOCATION:Trinity River Audubon Center\, 6500 Great Trinity Forest Way\, Dal
 las\, TX 75217\, DALLAS\, Texas\, 75217\, United States
GEO:32.703643;-96.705377
X-APPLE-STRUCTURED-LOCATION;VALUE=URI;X-ADDRESS=6500 Great Trinity Forest W
 ay\, Dallas\, TX 75217\, DALLAS\, Texas\, 75217\, United States;X-APPLE-RA
 DIUS=100;X-TITLE=Trinity River Audubon Center:geo:32.703643,-96.705377
END:VEVENT
BEGIN:VTIMEZONE
TZID:America/Chicago
X-LIC-LOCATION:America/Chicago
BEGIN:DAYLIGHT
DTSTART:20240310T030000
TZOFFSETFROM:-0600
TZOFFSETTO:-0500
TZNAME:CDT
END:DAYLIGHT
END:VTIMEZONE
END:VCALENDAR