BEGIN:VCALENDAR
VERSION:2.0
PRODID:-//wp-events-plugin.com//7.2.3.1//EN
TZID:America/Chicago
X-WR-TIMEZONE:America/Chicago
BEGIN:VEVENT
UID:6503@ntmn.org
DTSTART;TZID=America/Chicago:20260516T073000
DTEND;TZID=America/Chicago:20260516T090000
DTSTAMP:20260416T135951Z
URL:https://ntmn.org/events/trinity-river-audubon-center-saturday-morning-
 bird-walk-at/
SUMMARY:Trinity River Audubon Center || Saturday Morning Bird Walk (AT)
DESCRIPTION:Trinity River Audubon Center || Saturday Morning Bird Walk (AT)
 \nSaturday\, May 16\, 2026  ||  7:30am  – 9am   CT\n\nFor more info
  &amp\; to register:\nhttps://tickets.audubon.org/events/d5476f01-f31c-7e1
 b-0de5-8bdd51afb06b?_gl=1%2a1j7elxq%2a_gcl_au%2aMTU3Mzc3MzA3Ny4xNzY3NjU0NT
 cw%2a_ga%2aMTMyNDIyNjA0LjE3Njc2NTQ1NzA.%2a_ga_X2XNL2MWTT%2aczE3NzQzMDkyODQ
 kbzEwJGcxJHQxNzc0MzA5NDIxJGo2MCRsMCRoMA..\n\nDescription:\nJoin us for a m
 onthly bird walk to enjoy the trails and our amazing feathered friends. 
 Entry to the center is included in your ticket price.\n\nWe will explore t
 he various habitats at the Audubon Center in search of different bird spec
 ies that utilize them! Please be sure to bring a pair of binoculars\, wear
  comfortable footwear\, and be prepared for the weather.\n\nWe are limitin
 g this walk to 15 people. You must be registered in advance to attend.\nQu
 estions: TRAC@audubon.org\n\nWebsite: https://trinityriver.audubon.org/\n\
 nLocation:  Trinity River Audubon Center\, 6500 Great Trinity Forest Way\
 , Dallas\, TX 75217\,\n\nReport hour to AT: NTX: Other Pre-Approved Traini
 ng (Approved for 1.5 hr)\nDo not include drive time\nLLB 04/16/2026
CATEGORIES:Guided Walks/AT
LOCATION:Trinity River Audubon Center\, 6500 Great Trinity Forest Way\, Dal
 las\, TX 75217\, DALLAS\, Texas\, 75217\, United States
GEO:32.703643;-96.705377
X-APPLE-STRUCTURED-LOCATION;VALUE=URI;X-ADDRESS=6500 Great Trinity Forest W
 ay\, Dallas\, TX 75217\, DALLAS\, Texas\, 75217\, United States;X-APPLE-RA
 DIUS=100;X-TITLE=Trinity River Audubon Center:geo:32.703643,-96.705377
END:VEVENT
BEGIN:VTIMEZONE
TZID:America/Chicago
X-LIC-LOCATION:America/Chicago
BEGIN:DAYLIGHT
DTSTART:20260308T030000
TZOFFSETFROM:-0600
TZOFFSETTO:-0500
TZNAME:CDT
END:DAYLIGHT
END:VTIMEZONE
END:VCALENDAR