BEGIN:VCALENDAR
VERSION:2.0
PRODID:-//wp-events-plugin.com//7.2.3.1//EN
TZID:America/Chicago
X-WR-TIMEZONE:America/Chicago
BEGIN:VEVENT
UID:3228@ntmn.org
DTSTART;TZID=America/Chicago:20250223T090000
DTEND;TZID=America/Chicago:20250223T100000
DTSTAMP:20250105T190358Z
URL:https://ntmn.org/events/trinity-river-audubon-center-sunday-morning-bi
 rd-walk-at-5/
SUMMARY:Trinity River Audubon Center || Sunday Morning Bird Walk (AT)
DESCRIPTION:Trinity River Audubon Center || Sunday Morning Bird Walk (AT)\n
 Sunday\, February 23\, 2025  |  9am – 10am  CT\n\nDescription:  Join
  us for a Sunday morning beginner-friendly bird walk to enjoy the trails &
 amp\; our amazing feathered friends! Please bring comfortable footwear and
  a pair of binoculars. Entry to the center is included in your ticket pri
 ce.\n\nWe are limiting this walk to 15 people. You must be registered in a
 dvance to attend.\n\nFor more info &amp\; to Register:\nhttps://trinityriv
 er.audubon.org/events/sunday-morning-bird-walk-5\nClick red button “Regi
 ster Here” at link above.\n\nLocation:  Trinity River Audubon Center\, 
 6500 Great Trinity Forest Way\, Dallas\, TX 75217\n\no   Contact for Que
 stions: TRAC@audubon.org\n\nReport hour to AT: NTX: Other Pre-Approved Tr
 aining (Approved for 1 hr)\nDo not include drive time\nLLB 01/05/2025
CATEGORIES:Guided Walks/AT
LOCATION:Trinity River Audubon Center\, 6500 Great Trinity Forest Way\, Dal
 las\, TX 75217\, DALLAS\, Texas\, 75217\, United States
GEO:32.703643;-96.705377
X-APPLE-STRUCTURED-LOCATION;VALUE=URI;X-ADDRESS=6500 Great Trinity Forest W
 ay\, Dallas\, TX 75217\, DALLAS\, Texas\, 75217\, United States;X-APPLE-RA
 DIUS=100;X-TITLE=Trinity River Audubon Center:geo:32.703643,-96.705377
END:VEVENT
BEGIN:VTIMEZONE
TZID:America/Chicago
X-LIC-LOCATION:America/Chicago
BEGIN:STANDARD
DTSTART:20241103T010000
TZOFFSETFROM:-0500
TZOFFSETTO:-0600
TZNAME:CST
END:STANDARD
END:VTIMEZONE
END:VCALENDAR