BEGIN:VCALENDAR
VERSION:2.0
PRODID:-//wp-events-plugin.com//7.2.3.1//EN
TZID:America/Chicago
X-WR-TIMEZONE:America/Chicago
BEGIN:VEVENT
UID:5587@ntmn.org
DTSTART;TZID=America/Chicago:20261014T090000
DTEND;TZID=America/Chicago:20261014T120000
DTSTAMP:20260330T165304Z
URL:https://ntmn.org/events/western-heights-cemetery-volunteer-day-vh-2026
 -10-14/
SUMMARY:Western Heights Cemetery Volunteer Day (VH)
DESCRIPTION:Western Heights Cemetery Volunteer Day\n1617 Fort Worth Ave. Da
 llas\, TX 75208\n\nContact lead: Van Johnson\n\nEvery Weds\, 9am  - 12pm\
 , earlier during summer\n\nAll events are open to the public\nBring your o
 wn water and gloves\nWear close toed shoes\n\nDescription: prairie restora
 tion\, seasonal planting and seeding\, removal of invasives\, assist in pr
 airie restoration planning direction.\n\nLog hours in VMS under Cemetery C
 onstellation Project: Natural Resource Management\n\n1/05/26 eg  3/05/26 
 update
CATEGORIES:Public Events
END:VEVENT
BEGIN:VTIMEZONE
TZID:America/Chicago
X-LIC-LOCATION:America/Chicago
BEGIN:DAYLIGHT
DTSTART:20260308T030000
TZOFFSETFROM:-0600
TZOFFSETTO:-0500
TZNAME:CDT
END:DAYLIGHT
END:VTIMEZONE
END:VCALENDAR